BEGIN:VCALENDAR
VERSION:2.0
PRODID:-//L&#039;Atelier F - ECPv6.15.20//NONSGML v1.0//EN
CALSCALE:GREGORIAN
METHOD:PUBLISH
X-ORIGINAL-URL:https://l-atelier-f.ch
X-WR-CALDESC:Évènements pour L&#039;Atelier F
REFRESH-INTERVAL;VALUE=DURATION:PT1H
X-Robots-Tag:noindex
X-PUBLISHED-TTL:PT1H
BEGIN:VTIMEZONE
TZID:Europe/Zurich
BEGIN:DAYLIGHT
TZOFFSETFROM:+0100
TZOFFSETTO:+0200
TZNAME:CEST
DTSTART:20250330T010000
END:DAYLIGHT
BEGIN:STANDARD
TZOFFSETFROM:+0200
TZOFFSETTO:+0100
TZNAME:CET
DTSTART:20251026T010000
END:STANDARD
BEGIN:DAYLIGHT
TZOFFSETFROM:+0100
TZOFFSETTO:+0200
TZNAME:CEST
DTSTART:20260329T010000
END:DAYLIGHT
BEGIN:STANDARD
TZOFFSETFROM:+0200
TZOFFSETTO:+0100
TZNAME:CET
DTSTART:20261025T010000
END:STANDARD
BEGIN:DAYLIGHT
TZOFFSETFROM:+0100
TZOFFSETTO:+0200
TZNAME:CEST
DTSTART:20270328T010000
END:DAYLIGHT
BEGIN:STANDARD
TZOFFSETFROM:+0200
TZOFFSETTO:+0100
TZNAME:CET
DTSTART:20271031T010000
END:STANDARD
END:VTIMEZONE
BEGIN:VEVENT
DTSTART;TZID=Europe/Zurich:20260207T100000
DTEND;TZID=Europe/Zurich:20260207T120000
DTSTAMP:20260421T185400
CREATED:20251216T132815Z
LAST-MODIFIED:20251216T133623Z
UID:33235-1770458400-1770465600@l-atelier-f.ch
SUMMARY:Cours/coaching piano Léo Pensel
DESCRIPTION:Cliquer ici pour réserver un cours
URL:https://l-atelier-f.ch/calendrier/lp4/
LOCATION:L’Atelier F\, Grand' rue 41 A\, Gland\, 1196\, Switzerland
CATEGORIES:Coaching piano
ORGANIZER;CN="L'Atelier F":MAILTO:info@l-atelier-f.ch
END:VEVENT
BEGIN:VEVENT
DTSTART;VALUE=DATE:20260228
DTEND;VALUE=DATE:20260301
DTSTAMP:20260421T185400
CREATED:20250815T174322Z
LAST-MODIFIED:20251204T073635Z
UID:32661-1772236800-1772323199@l-atelier-f.ch
SUMMARY:Cours/coaching piano Renaud Moutier
DESCRIPTION:Cliquer ici pour réserver un cours
URL:https://l-atelier-f.ch/calendrier/rm6/
LOCATION:L’Atelier F\, Grand' rue 41 A\, Gland\, 1196\, Switzerland
CATEGORIES:Coaching piano
ORGANIZER;CN="L'Atelier F":MAILTO:info@l-atelier-f.ch
END:VEVENT
END:VCALENDAR